BEGIN:VCALENDAR
VERSION:2.0
PRODID:-//Dementia Support Buckinghamshire - ECPv6.15.20//NONSGML v1.0//EN
CALSCALE:GREGORIAN
METHOD:PUBLISH
X-ORIGINAL-URL:https://dementiasupportbucks.org.uk
X-WR-CALDESC:Events for Dementia Support Buckinghamshire
REFRESH-INTERVAL;VALUE=DURATION:PT1H
X-Robots-Tag:noindex
X-PUBLISHED-TTL:PT1H
BEGIN:VTIMEZONE
TZID:Europe/London
BEGIN:DAYLIGHT
TZOFFSETFROM:+0000
TZOFFSETTO:+0100
TZNAME:BST
DTSTART:20250330T010000
END:DAYLIGHT
BEGIN:STANDARD
TZOFFSETFROM:+0100
TZOFFSETTO:+0000
TZNAME:GMT
DTSTART:20251026T010000
END:STANDARD
BEGIN:DAYLIGHT
TZOFFSETFROM:+0000
TZOFFSETTO:+0100
TZNAME:BST
DTSTART:20260329T010000
END:DAYLIGHT
BEGIN:STANDARD
TZOFFSETFROM:+0100
TZOFFSETTO:+0000
TZNAME:GMT
DTSTART:20261025T010000
END:STANDARD
BEGIN:DAYLIGHT
TZOFFSETFROM:+0000
TZOFFSETTO:+0100
TZNAME:BST
DTSTART:20270328T010000
END:DAYLIGHT
BEGIN:STANDARD
TZOFFSETFROM:+0100
TZOFFSETTO:+0000
TZNAME:GMT
DTSTART:20271031T010000
END:STANDARD
BEGIN:DAYLIGHT
TZOFFSETFROM:+0000
TZOFFSETTO:+0100
TZNAME:BST
DTSTART:20280326T010000
END:DAYLIGHT
BEGIN:STANDARD
TZOFFSETFROM:+0100
TZOFFSETTO:+0000
TZNAME:GMT
DTSTART:20281029T010000
END:STANDARD
BEGIN:DAYLIGHT
TZOFFSETFROM:+0000
TZOFFSETTO:+0100
TZNAME:BST
DTSTART:20290325T010000
END:DAYLIGHT
BEGIN:STANDARD
TZOFFSETFROM:+0100
TZOFFSETTO:+0000
TZNAME:GMT
DTSTART:20291028T010000
END:STANDARD
END:VTIMEZONE
BEGIN:VEVENT
DTSTART;TZID=Europe/London:20260506T103000
DTEND;TZID=Europe/London:20260506T120000
DTSTAMP:20260421T131202
CREATED:20250630T101843Z
LAST-MODIFIED:20250630T101843Z
UID:10000651-1778063400-1778068800@dementiasupportbucks.org.uk
SUMMARY:Lightbulb Cafe
DESCRIPTION:Safe space for people with memory changes/dementia and carers – includes reminiscence activities and separate carer support. \nNote: Booking required. \n\n\n	Related
URL:https://dementiasupportbucks.org.uk/event/lightbulb-cafe/2026-05-06/
LOCATION:Adams Park Stadium\, Adams Park Stadium\, Hillbottom Road\, High Wycombe\, Buckinghamshire\, HP12 4HJ\, United Kingdom
ORGANIZER;CN="Wycombe Wanderers Foundation":MAILTO:community@wwfc.com
END:VEVENT
BEGIN:VEVENT
DTSTART;TZID=Europe/London:20260603T103000
DTEND;TZID=Europe/London:20260603T120000
DTSTAMP:20260421T131202
CREATED:20250630T101843Z
LAST-MODIFIED:20250630T101843Z
UID:10000652-1780482600-1780488000@dementiasupportbucks.org.uk
SUMMARY:Lightbulb Cafe
DESCRIPTION:Safe space for people with memory changes/dementia and carers – includes reminiscence activities and separate carer support. \nNote: Booking required. \n\n\n	Related
URL:https://dementiasupportbucks.org.uk/event/lightbulb-cafe/2026-06-03/
LOCATION:Adams Park Stadium\, Adams Park Stadium\, Hillbottom Road\, High Wycombe\, Buckinghamshire\, HP12 4HJ\, United Kingdom
ORGANIZER;CN="Wycombe Wanderers Foundation":MAILTO:community@wwfc.com
END:VEVENT
BEGIN:VEVENT
DTSTART;TZID=Europe/London:20260701T103000
DTEND;TZID=Europe/London:20260701T120000
DTSTAMP:20260421T131202
CREATED:20250630T101843Z
LAST-MODIFIED:20250630T101843Z
UID:10000653-1782901800-1782907200@dementiasupportbucks.org.uk
SUMMARY:Lightbulb Cafe
DESCRIPTION:Safe space for people with memory changes/dementia and carers – includes reminiscence activities and separate carer support. \nNote: Booking required. \n\n\n	Related
URL:https://dementiasupportbucks.org.uk/event/lightbulb-cafe/2026-07-01/
LOCATION:Adams Park Stadium\, Adams Park Stadium\, Hillbottom Road\, High Wycombe\, Buckinghamshire\, HP12 4HJ\, United Kingdom
ORGANIZER;CN="Wycombe Wanderers Foundation":MAILTO:community@wwfc.com
END:VEVENT
BEGIN:VEVENT
DTSTART;TZID=Europe/London:20260805T103000
DTEND;TZID=Europe/London:20260805T120000
DTSTAMP:20260421T131202
CREATED:20250630T101843Z
LAST-MODIFIED:20250630T101843Z
UID:10000654-1785925800-1785931200@dementiasupportbucks.org.uk
SUMMARY:Lightbulb Cafe
DESCRIPTION:Safe space for people with memory changes/dementia and carers – includes reminiscence activities and separate carer support. \nNote: Booking required. \n\n\n	Related
URL:https://dementiasupportbucks.org.uk/event/lightbulb-cafe/2026-08-05/
LOCATION:Adams Park Stadium\, Adams Park Stadium\, Hillbottom Road\, High Wycombe\, Buckinghamshire\, HP12 4HJ\, United Kingdom
ORGANIZER;CN="Wycombe Wanderers Foundation":MAILTO:community@wwfc.com
END:VEVENT
BEGIN:VEVENT
DTSTART;TZID=Europe/London:20260902T103000
DTEND;TZID=Europe/London:20260902T120000
DTSTAMP:20260421T131202
CREATED:20250630T101843Z
LAST-MODIFIED:20250630T101843Z
UID:10000655-1788345000-1788350400@dementiasupportbucks.org.uk
SUMMARY:Lightbulb Cafe
DESCRIPTION:Safe space for people with memory changes/dementia and carers – includes reminiscence activities and separate carer support. \nNote: Booking required. \n\n\n	Related
URL:https://dementiasupportbucks.org.uk/event/lightbulb-cafe/2026-09-02/
LOCATION:Adams Park Stadium\, Adams Park Stadium\, Hillbottom Road\, High Wycombe\, Buckinghamshire\, HP12 4HJ\, United Kingdom
ORGANIZER;CN="Wycombe Wanderers Foundation":MAILTO:community@wwfc.com
END:VEVENT
BEGIN:VEVENT
DTSTART;TZID=Europe/London:20261007T103000
DTEND;TZID=Europe/London:20261007T120000
DTSTAMP:20260421T131202
CREATED:20250630T101843Z
LAST-MODIFIED:20250630T101843Z
UID:10000656-1791369000-1791374400@dementiasupportbucks.org.uk
SUMMARY:Lightbulb Cafe
DESCRIPTION:Safe space for people with memory changes/dementia and carers – includes reminiscence activities and separate carer support. \nNote: Booking required. \n\n\n	Related
URL:https://dementiasupportbucks.org.uk/event/lightbulb-cafe/2026-10-07/
LOCATION:Adams Park Stadium\, Adams Park Stadium\, Hillbottom Road\, High Wycombe\, Buckinghamshire\, HP12 4HJ\, United Kingdom
ORGANIZER;CN="Wycombe Wanderers Foundation":MAILTO:community@wwfc.com
END:VEVENT
BEGIN:VEVENT
DTSTART;TZID=Europe/London:20261104T103000
DTEND;TZID=Europe/London:20261104T120000
DTSTAMP:20260421T131202
CREATED:20250630T101843Z
LAST-MODIFIED:20250630T101843Z
UID:10000657-1793788200-1793793600@dementiasupportbucks.org.uk
SUMMARY:Lightbulb Cafe
DESCRIPTION:Safe space for people with memory changes/dementia and carers – includes reminiscence activities and separate carer support. \nNote: Booking required. \n\n\n	Related
URL:https://dementiasupportbucks.org.uk/event/lightbulb-cafe/2026-11-04/
LOCATION:Adams Park Stadium\, Adams Park Stadium\, Hillbottom Road\, High Wycombe\, Buckinghamshire\, HP12 4HJ\, United Kingdom
ORGANIZER;CN="Wycombe Wanderers Foundation":MAILTO:community@wwfc.com
END:VEVENT
BEGIN:VEVENT
DTSTART;TZID=Europe/London:20261202T103000
DTEND;TZID=Europe/London:20261202T120000
DTSTAMP:20260421T131202
CREATED:20250630T101843Z
LAST-MODIFIED:20250630T101843Z
UID:10000658-1796207400-1796212800@dementiasupportbucks.org.uk
SUMMARY:Lightbulb Cafe
DESCRIPTION:Safe space for people with memory changes/dementia and carers – includes reminiscence activities and separate carer support. \nNote: Booking required. \n\n\n	Related
URL:https://dementiasupportbucks.org.uk/event/lightbulb-cafe/2026-12-02/
LOCATION:Adams Park Stadium\, Adams Park Stadium\, Hillbottom Road\, High Wycombe\, Buckinghamshire\, HP12 4HJ\, United Kingdom
ORGANIZER;CN="Wycombe Wanderers Foundation":MAILTO:community@wwfc.com
END:VEVENT
BEGIN:VEVENT
DTSTART;TZID=Europe/London:20270106T103000
DTEND;TZID=Europe/London:20270106T120000
DTSTAMP:20260421T131202
CREATED:20250630T101843Z
LAST-MODIFIED:20250630T101843Z
UID:10000659-1799231400-1799236800@dementiasupportbucks.org.uk
SUMMARY:Lightbulb Cafe
DESCRIPTION:Safe space for people with memory changes/dementia and carers – includes reminiscence activities and separate carer support. \nNote: Booking required. \n\n\n	Related
URL:https://dementiasupportbucks.org.uk/event/lightbulb-cafe/2027-01-06/
LOCATION:Adams Park Stadium\, Adams Park Stadium\, Hillbottom Road\, High Wycombe\, Buckinghamshire\, HP12 4HJ\, United Kingdom
ORGANIZER;CN="Wycombe Wanderers Foundation":MAILTO:community@wwfc.com
END:VEVENT
BEGIN:VEVENT
DTSTART;TZID=Europe/London:20270203T103000
DTEND;TZID=Europe/London:20270203T120000
DTSTAMP:20260421T131202
CREATED:20250630T101843Z
LAST-MODIFIED:20250630T101843Z
UID:10000660-1801650600-1801656000@dementiasupportbucks.org.uk
SUMMARY:Lightbulb Cafe
DESCRIPTION:Safe space for people with memory changes/dementia and carers – includes reminiscence activities and separate carer support. \nNote: Booking required. \n\n\n	Related
URL:https://dementiasupportbucks.org.uk/event/lightbulb-cafe/2027-02-03/
LOCATION:Adams Park Stadium\, Adams Park Stadium\, Hillbottom Road\, High Wycombe\, Buckinghamshire\, HP12 4HJ\, United Kingdom
ORGANIZER;CN="Wycombe Wanderers Foundation":MAILTO:community@wwfc.com
END:VEVENT
BEGIN:VEVENT
DTSTART;TZID=Europe/London:20270303T103000
DTEND;TZID=Europe/London:20270303T120000
DTSTAMP:20260421T131202
CREATED:20250630T101843Z
LAST-MODIFIED:20250630T101843Z
UID:10000661-1804069800-1804075200@dementiasupportbucks.org.uk
SUMMARY:Lightbulb Cafe
DESCRIPTION:Safe space for people with memory changes/dementia and carers – includes reminiscence activities and separate carer support. \nNote: Booking required. \n\n\n	Related
URL:https://dementiasupportbucks.org.uk/event/lightbulb-cafe/2027-03-03/
LOCATION:Adams Park Stadium\, Adams Park Stadium\, Hillbottom Road\, High Wycombe\, Buckinghamshire\, HP12 4HJ\, United Kingdom
ORGANIZER;CN="Wycombe Wanderers Foundation":MAILTO:community@wwfc.com
END:VEVENT
BEGIN:VEVENT
DTSTART;TZID=Europe/London:20270407T103000
DTEND;TZID=Europe/London:20270407T120000
DTSTAMP:20260421T131202
CREATED:20250630T101843Z
LAST-MODIFIED:20250630T101843Z
UID:10000662-1807093800-1807099200@dementiasupportbucks.org.uk
SUMMARY:Lightbulb Cafe
DESCRIPTION:Safe space for people with memory changes/dementia and carers – includes reminiscence activities and separate carer support. \nNote: Booking required. \n\n\n	Related
URL:https://dementiasupportbucks.org.uk/event/lightbulb-cafe/2027-04-07/
LOCATION:Adams Park Stadium\, Adams Park Stadium\, Hillbottom Road\, High Wycombe\, Buckinghamshire\, HP12 4HJ\, United Kingdom
ORGANIZER;CN="Wycombe Wanderers Foundation":MAILTO:community@wwfc.com
END:VEVENT
BEGIN:VEVENT
DTSTART;TZID=Europe/London:20270505T103000
DTEND;TZID=Europe/London:20270505T120000
DTSTAMP:20260421T131202
CREATED:20250630T101843Z
LAST-MODIFIED:20250630T101843Z
UID:10000663-1809513000-1809518400@dementiasupportbucks.org.uk
SUMMARY:Lightbulb Cafe
DESCRIPTION:Safe space for people with memory changes/dementia and carers – includes reminiscence activities and separate carer support. \nNote: Booking required. \n\n\n	Related
URL:https://dementiasupportbucks.org.uk/event/lightbulb-cafe/2027-05-05/
LOCATION:Adams Park Stadium\, Adams Park Stadium\, Hillbottom Road\, High Wycombe\, Buckinghamshire\, HP12 4HJ\, United Kingdom
ORGANIZER;CN="Wycombe Wanderers Foundation":MAILTO:community@wwfc.com
END:VEVENT
BEGIN:VEVENT
DTSTART;TZID=Europe/London:20270602T103000
DTEND;TZID=Europe/London:20270602T120000
DTSTAMP:20260421T131202
CREATED:20250630T101843Z
LAST-MODIFIED:20250630T101843Z
UID:10000664-1811932200-1811937600@dementiasupportbucks.org.uk
SUMMARY:Lightbulb Cafe
DESCRIPTION:Safe space for people with memory changes/dementia and carers – includes reminiscence activities and separate carer support. \nNote: Booking required. \n\n\n	Related
URL:https://dementiasupportbucks.org.uk/event/lightbulb-cafe/2027-06-02/
LOCATION:Adams Park Stadium\, Adams Park Stadium\, Hillbottom Road\, High Wycombe\, Buckinghamshire\, HP12 4HJ\, United Kingdom
ORGANIZER;CN="Wycombe Wanderers Foundation":MAILTO:community@wwfc.com
END:VEVENT
BEGIN:VEVENT
DTSTART;TZID=Europe/London:20270707T103000
DTEND;TZID=Europe/London:20270707T120000
DTSTAMP:20260421T131202
CREATED:20250630T101843Z
LAST-MODIFIED:20250630T101843Z
UID:10000665-1814956200-1814961600@dementiasupportbucks.org.uk
SUMMARY:Lightbulb Cafe
DESCRIPTION:Safe space for people with memory changes/dementia and carers – includes reminiscence activities and separate carer support. \nNote: Booking required. \n\n\n	Related
URL:https://dementiasupportbucks.org.uk/event/lightbulb-cafe/2027-07-07/
LOCATION:Adams Park Stadium\, Adams Park Stadium\, Hillbottom Road\, High Wycombe\, Buckinghamshire\, HP12 4HJ\, United Kingdom
ORGANIZER;CN="Wycombe Wanderers Foundation":MAILTO:community@wwfc.com
END:VEVENT
BEGIN:VEVENT
DTSTART;TZID=Europe/London:20270804T103000
DTEND;TZID=Europe/London:20270804T120000
DTSTAMP:20260421T131202
CREATED:20250630T101843Z
LAST-MODIFIED:20250630T101843Z
UID:10000666-1817375400-1817380800@dementiasupportbucks.org.uk
SUMMARY:Lightbulb Cafe
DESCRIPTION:Safe space for people with memory changes/dementia and carers – includes reminiscence activities and separate carer support. \nNote: Booking required. \n\n\n	Related
URL:https://dementiasupportbucks.org.uk/event/lightbulb-cafe/2027-08-04/
LOCATION:Adams Park Stadium\, Adams Park Stadium\, Hillbottom Road\, High Wycombe\, Buckinghamshire\, HP12 4HJ\, United Kingdom
ORGANIZER;CN="Wycombe Wanderers Foundation":MAILTO:community@wwfc.com
END:VEVENT
BEGIN:VEVENT
DTSTART;TZID=Europe/London:20270901T103000
DTEND;TZID=Europe/London:20270901T120000
DTSTAMP:20260421T131202
CREATED:20250630T101843Z
LAST-MODIFIED:20250630T101843Z
UID:10000667-1819794600-1819800000@dementiasupportbucks.org.uk
SUMMARY:Lightbulb Cafe
DESCRIPTION:Safe space for people with memory changes/dementia and carers – includes reminiscence activities and separate carer support. \nNote: Booking required. \n\n\n	Related
URL:https://dementiasupportbucks.org.uk/event/lightbulb-cafe/2027-09-01/
LOCATION:Adams Park Stadium\, Adams Park Stadium\, Hillbottom Road\, High Wycombe\, Buckinghamshire\, HP12 4HJ\, United Kingdom
ORGANIZER;CN="Wycombe Wanderers Foundation":MAILTO:community@wwfc.com
END:VEVENT
BEGIN:VEVENT
DTSTART;TZID=Europe/London:20271006T103000
DTEND;TZID=Europe/London:20271006T120000
DTSTAMP:20260421T131202
CREATED:20250630T101843Z
LAST-MODIFIED:20250630T101843Z
UID:10000668-1822818600-1822824000@dementiasupportbucks.org.uk
SUMMARY:Lightbulb Cafe
DESCRIPTION:Safe space for people with memory changes/dementia and carers – includes reminiscence activities and separate carer support. \nNote: Booking required. \n\n\n	Related
URL:https://dementiasupportbucks.org.uk/event/lightbulb-cafe/2027-10-06/
LOCATION:Adams Park Stadium\, Adams Park Stadium\, Hillbottom Road\, High Wycombe\, Buckinghamshire\, HP12 4HJ\, United Kingdom
ORGANIZER;CN="Wycombe Wanderers Foundation":MAILTO:community@wwfc.com
END:VEVENT
BEGIN:VEVENT
DTSTART;TZID=Europe/London:20271103T103000
DTEND;TZID=Europe/London:20271103T120000
DTSTAMP:20260421T131202
CREATED:20250630T101843Z
LAST-MODIFIED:20250630T101843Z
UID:10000669-1825237800-1825243200@dementiasupportbucks.org.uk
SUMMARY:Lightbulb Cafe
DESCRIPTION:Safe space for people with memory changes/dementia and carers – includes reminiscence activities and separate carer support. \nNote: Booking required. \n\n\n	Related
URL:https://dementiasupportbucks.org.uk/event/lightbulb-cafe/2027-11-03/
LOCATION:Adams Park Stadium\, Adams Park Stadium\, Hillbottom Road\, High Wycombe\, Buckinghamshire\, HP12 4HJ\, United Kingdom
ORGANIZER;CN="Wycombe Wanderers Foundation":MAILTO:community@wwfc.com
END:VEVENT
BEGIN:VEVENT
DTSTART;TZID=Europe/London:20271201T103000
DTEND;TZID=Europe/London:20271201T120000
DTSTAMP:20260421T131202
CREATED:20250630T101843Z
LAST-MODIFIED:20250630T101843Z
UID:10000670-1827657000-1827662400@dementiasupportbucks.org.uk
SUMMARY:Lightbulb Cafe
DESCRIPTION:Safe space for people with memory changes/dementia and carers – includes reminiscence activities and separate carer support. \nNote: Booking required. \n\n\n	Related
URL:https://dementiasupportbucks.org.uk/event/lightbulb-cafe/2027-12-01/
LOCATION:Adams Park Stadium\, Adams Park Stadium\, Hillbottom Road\, High Wycombe\, Buckinghamshire\, HP12 4HJ\, United Kingdom
ORGANIZER;CN="Wycombe Wanderers Foundation":MAILTO:community@wwfc.com
END:VEVENT
BEGIN:VEVENT
DTSTART;TZID=Europe/London:20280105T103000
DTEND;TZID=Europe/London:20280105T120000
DTSTAMP:20260421T131202
CREATED:20250630T101843Z
LAST-MODIFIED:20250630T101843Z
UID:10000671-1830681000-1830686400@dementiasupportbucks.org.uk
SUMMARY:Lightbulb Cafe
DESCRIPTION:Safe space for people with memory changes/dementia and carers – includes reminiscence activities and separate carer support. \nNote: Booking required. \n\n\n	Related
URL:https://dementiasupportbucks.org.uk/event/lightbulb-cafe/2028-01-05/
LOCATION:Adams Park Stadium\, Adams Park Stadium\, Hillbottom Road\, High Wycombe\, Buckinghamshire\, HP12 4HJ\, United Kingdom
ORGANIZER;CN="Wycombe Wanderers Foundation":MAILTO:community@wwfc.com
END:VEVENT
BEGIN:VEVENT
DTSTART;TZID=Europe/London:20280202T103000
DTEND;TZID=Europe/London:20280202T120000
DTSTAMP:20260421T131202
CREATED:20250630T101843Z
LAST-MODIFIED:20250630T101843Z
UID:10000672-1833100200-1833105600@dementiasupportbucks.org.uk
SUMMARY:Lightbulb Cafe
DESCRIPTION:Safe space for people with memory changes/dementia and carers – includes reminiscence activities and separate carer support. \nNote: Booking required. \n\n\n	Related
URL:https://dementiasupportbucks.org.uk/event/lightbulb-cafe/2028-02-02/
LOCATION:Adams Park Stadium\, Adams Park Stadium\, Hillbottom Road\, High Wycombe\, Buckinghamshire\, HP12 4HJ\, United Kingdom
ORGANIZER;CN="Wycombe Wanderers Foundation":MAILTO:community@wwfc.com
END:VEVENT
BEGIN:VEVENT
DTSTART;TZID=Europe/London:20280301T103000
DTEND;TZID=Europe/London:20280301T120000
DTSTAMP:20260421T131202
CREATED:20250630T101843Z
LAST-MODIFIED:20250630T101843Z
UID:10000673-1835519400-1835524800@dementiasupportbucks.org.uk
SUMMARY:Lightbulb Cafe
DESCRIPTION:Safe space for people with memory changes/dementia and carers – includes reminiscence activities and separate carer support. \nNote: Booking required. \n\n\n	Related
URL:https://dementiasupportbucks.org.uk/event/lightbulb-cafe/2028-03-01/
LOCATION:Adams Park Stadium\, Adams Park Stadium\, Hillbottom Road\, High Wycombe\, Buckinghamshire\, HP12 4HJ\, United Kingdom
ORGANIZER;CN="Wycombe Wanderers Foundation":MAILTO:community@wwfc.com
END:VEVENT
BEGIN:VEVENT
DTSTART;TZID=Europe/London:20280405T103000
DTEND;TZID=Europe/London:20280405T120000
DTSTAMP:20260421T131202
CREATED:20250630T101843Z
LAST-MODIFIED:20250630T101843Z
UID:10000674-1838543400-1838548800@dementiasupportbucks.org.uk
SUMMARY:Lightbulb Cafe
DESCRIPTION:Safe space for people with memory changes/dementia and carers – includes reminiscence activities and separate carer support. \nNote: Booking required. \n\n\n	Related
URL:https://dementiasupportbucks.org.uk/event/lightbulb-cafe/2028-04-05/
LOCATION:Adams Park Stadium\, Adams Park Stadium\, Hillbottom Road\, High Wycombe\, Buckinghamshire\, HP12 4HJ\, United Kingdom
ORGANIZER;CN="Wycombe Wanderers Foundation":MAILTO:community@wwfc.com
END:VEVENT
BEGIN:VEVENT
DTSTART;TZID=Europe/London:20280503T103000
DTEND;TZID=Europe/London:20280503T120000
DTSTAMP:20260421T131202
CREATED:20250630T101843Z
LAST-MODIFIED:20250630T101843Z
UID:10000675-1840962600-1840968000@dementiasupportbucks.org.uk
SUMMARY:Lightbulb Cafe
DESCRIPTION:Safe space for people with memory changes/dementia and carers – includes reminiscence activities and separate carer support. \nNote: Booking required. \n\n\n	Related
URL:https://dementiasupportbucks.org.uk/event/lightbulb-cafe/2028-05-03/
LOCATION:Adams Park Stadium\, Adams Park Stadium\, Hillbottom Road\, High Wycombe\, Buckinghamshire\, HP12 4HJ\, United Kingdom
ORGANIZER;CN="Wycombe Wanderers Foundation":MAILTO:community@wwfc.com
END:VEVENT
BEGIN:VEVENT
DTSTART;TZID=Europe/London:20280607T103000
DTEND;TZID=Europe/London:20280607T120000
DTSTAMP:20260421T131202
CREATED:20250630T101843Z
LAST-MODIFIED:20250630T101843Z
UID:10000676-1843986600-1843992000@dementiasupportbucks.org.uk
SUMMARY:Lightbulb Cafe
DESCRIPTION:Safe space for people with memory changes/dementia and carers – includes reminiscence activities and separate carer support. \nNote: Booking required. \n\n\n	Related
URL:https://dementiasupportbucks.org.uk/event/lightbulb-cafe/2028-06-07/
LOCATION:Adams Park Stadium\, Adams Park Stadium\, Hillbottom Road\, High Wycombe\, Buckinghamshire\, HP12 4HJ\, United Kingdom
ORGANIZER;CN="Wycombe Wanderers Foundation":MAILTO:community@wwfc.com
END:VEVENT
BEGIN:VEVENT
DTSTART;TZID=Europe/London:20280705T103000
DTEND;TZID=Europe/London:20280705T120000
DTSTAMP:20260421T131202
CREATED:20250630T101843Z
LAST-MODIFIED:20250630T101843Z
UID:10000677-1846405800-1846411200@dementiasupportbucks.org.uk
SUMMARY:Lightbulb Cafe
DESCRIPTION:Safe space for people with memory changes/dementia and carers – includes reminiscence activities and separate carer support. \nNote: Booking required. \n\n\n	Related
URL:https://dementiasupportbucks.org.uk/event/lightbulb-cafe/2028-07-05/
LOCATION:Adams Park Stadium\, Adams Park Stadium\, Hillbottom Road\, High Wycombe\, Buckinghamshire\, HP12 4HJ\, United Kingdom
ORGANIZER;CN="Wycombe Wanderers Foundation":MAILTO:community@wwfc.com
END:VEVENT
BEGIN:VEVENT
DTSTART;TZID=Europe/London:20280802T103000
DTEND;TZID=Europe/London:20280802T120000
DTSTAMP:20260421T131202
CREATED:20250630T101843Z
LAST-MODIFIED:20250630T101843Z
UID:10000678-1848825000-1848830400@dementiasupportbucks.org.uk
SUMMARY:Lightbulb Cafe
DESCRIPTION:Safe space for people with memory changes/dementia and carers – includes reminiscence activities and separate carer support. \nNote: Booking required. \n\n\n	Related
URL:https://dementiasupportbucks.org.uk/event/lightbulb-cafe/2028-08-02/
LOCATION:Adams Park Stadium\, Adams Park Stadium\, Hillbottom Road\, High Wycombe\, Buckinghamshire\, HP12 4HJ\, United Kingdom
ORGANIZER;CN="Wycombe Wanderers Foundation":MAILTO:community@wwfc.com
END:VEVENT
BEGIN:VEVENT
DTSTART;TZID=Europe/London:20280906T103000
DTEND;TZID=Europe/London:20280906T120000
DTSTAMP:20260421T131202
CREATED:20250630T101843Z
LAST-MODIFIED:20250630T101843Z
UID:10000679-1851849000-1851854400@dementiasupportbucks.org.uk
SUMMARY:Lightbulb Cafe
DESCRIPTION:Safe space for people with memory changes/dementia and carers – includes reminiscence activities and separate carer support. \nNote: Booking required. \n\n\n	Related
URL:https://dementiasupportbucks.org.uk/event/lightbulb-cafe/2028-09-06/
LOCATION:Adams Park Stadium\, Adams Park Stadium\, Hillbottom Road\, High Wycombe\, Buckinghamshire\, HP12 4HJ\, United Kingdom
ORGANIZER;CN="Wycombe Wanderers Foundation":MAILTO:community@wwfc.com
END:VEVENT
BEGIN:VEVENT
DTSTART;TZID=Europe/London:20281004T103000
DTEND;TZID=Europe/London:20281004T120000
DTSTAMP:20260421T131202
CREATED:20250630T101843Z
LAST-MODIFIED:20250630T101843Z
UID:10000680-1854268200-1854273600@dementiasupportbucks.org.uk
SUMMARY:Lightbulb Cafe
DESCRIPTION:Safe space for people with memory changes/dementia and carers – includes reminiscence activities and separate carer support. \nNote: Booking required. \n\n\n	Related
URL:https://dementiasupportbucks.org.uk/event/lightbulb-cafe/2028-10-04/
LOCATION:Adams Park Stadium\, Adams Park Stadium\, Hillbottom Road\, High Wycombe\, Buckinghamshire\, HP12 4HJ\, United Kingdom
ORGANIZER;CN="Wycombe Wanderers Foundation":MAILTO:community@wwfc.com
END:VEVENT
END:VCALENDAR