BEGIN:VCALENDAR
VERSION:2.0
PRODID:-//Dementia Support Buckinghamshire - ECPv6.15.20//NONSGML v1.0//EN
CALSCALE:GREGORIAN
METHOD:PUBLISH
X-ORIGINAL-URL:https://dementiasupportbucks.org.uk
X-WR-CALDESC:Events for Dementia Support Buckinghamshire
REFRESH-INTERVAL;VALUE=DURATION:PT1H
X-Robots-Tag:noindex
X-PUBLISHED-TTL:PT1H
BEGIN:VTIMEZONE
TZID:Europe/London
BEGIN:DAYLIGHT
TZOFFSETFROM:+0000
TZOFFSETTO:+0100
TZNAME:BST
DTSTART:20240331T010000
END:DAYLIGHT
BEGIN:STANDARD
TZOFFSETFROM:+0100
TZOFFSETTO:+0000
TZNAME:GMT
DTSTART:20241027T010000
END:STANDARD
BEGIN:DAYLIGHT
TZOFFSETFROM:+0000
TZOFFSETTO:+0100
TZNAME:BST
DTSTART:20250330T010000
END:DAYLIGHT
BEGIN:STANDARD
TZOFFSETFROM:+0100
TZOFFSETTO:+0000
TZNAME:GMT
DTSTART:20251026T010000
END:STANDARD
BEGIN:DAYLIGHT
TZOFFSETFROM:+0000
TZOFFSETTO:+0100
TZNAME:BST
DTSTART:20260329T010000
END:DAYLIGHT
BEGIN:STANDARD
TZOFFSETFROM:+0100
TZOFFSETTO:+0000
TZNAME:GMT
DTSTART:20261025T010000
END:STANDARD
BEGIN:DAYLIGHT
TZOFFSETFROM:+0000
TZOFFSETTO:+0100
TZNAME:BST
DTSTART:20270328T010000
END:DAYLIGHT
BEGIN:STANDARD
TZOFFSETFROM:+0100
TZOFFSETTO:+0000
TZNAME:GMT
DTSTART:20271031T010000
END:STANDARD
END:VTIMEZONE
BEGIN:VEVENT
DTSTART;TZID=Europe/London:20260401T103000
DTEND;TZID=Europe/London:20260401T120000
DTSTAMP:20260421T151111
CREATED:20250630T101843Z
LAST-MODIFIED:20250630T101843Z
UID:10000650-1775039400-1775044800@dementiasupportbucks.org.uk
SUMMARY:Lightbulb Cafe
DESCRIPTION:Safe space for people with memory changes/dementia and carers – includes reminiscence activities and separate carer support. \nNote: Booking required. \n\n\n	Related
URL:https://dementiasupportbucks.org.uk/event/lightbulb-cafe/2026-04-01/
LOCATION:Adams Park Stadium\, Adams Park Stadium\, Hillbottom Road\, High Wycombe\, Buckinghamshire\, HP12 4HJ\, United Kingdom
ORGANIZER;CN="Wycombe Wanderers Foundation":MAILTO:community@wwfc.com
END:VEVENT
BEGIN:VEVENT
DTSTART;TZID=Europe/London:20260304T103000
DTEND;TZID=Europe/London:20260304T120000
DTSTAMP:20260421T151111
CREATED:20250630T101843Z
LAST-MODIFIED:20250630T101843Z
UID:10000649-1772620200-1772625600@dementiasupportbucks.org.uk
SUMMARY:Lightbulb Cafe
DESCRIPTION:Safe space for people with memory changes/dementia and carers – includes reminiscence activities and separate carer support. \nNote: Booking required. \n\n\n	Related
URL:https://dementiasupportbucks.org.uk/event/lightbulb-cafe/2026-03-04/
LOCATION:Adams Park Stadium\, Adams Park Stadium\, Hillbottom Road\, High Wycombe\, Buckinghamshire\, HP12 4HJ\, United Kingdom
ORGANIZER;CN="Wycombe Wanderers Foundation":MAILTO:community@wwfc.com
END:VEVENT
BEGIN:VEVENT
DTSTART;TZID=Europe/London:20260204T103000
DTEND;TZID=Europe/London:20260204T120000
DTSTAMP:20260421T151111
CREATED:20250630T101843Z
LAST-MODIFIED:20250630T101843Z
UID:10000648-1770201000-1770206400@dementiasupportbucks.org.uk
SUMMARY:Lightbulb Cafe
DESCRIPTION:Safe space for people with memory changes/dementia and carers – includes reminiscence activities and separate carer support. \nNote: Booking required. \n\n\n	Related
URL:https://dementiasupportbucks.org.uk/event/lightbulb-cafe/2026-02-04/
LOCATION:Adams Park Stadium\, Adams Park Stadium\, Hillbottom Road\, High Wycombe\, Buckinghamshire\, HP12 4HJ\, United Kingdom
ORGANIZER;CN="Wycombe Wanderers Foundation":MAILTO:community@wwfc.com
END:VEVENT
BEGIN:VEVENT
DTSTART;TZID=Europe/London:20260107T103000
DTEND;TZID=Europe/London:20260107T120000
DTSTAMP:20260421T151111
CREATED:20250630T101843Z
LAST-MODIFIED:20250630T101843Z
UID:10000647-1767781800-1767787200@dementiasupportbucks.org.uk
SUMMARY:Lightbulb Cafe
DESCRIPTION:Safe space for people with memory changes/dementia and carers – includes reminiscence activities and separate carer support. \nNote: Booking required. \n\n\n	Related
URL:https://dementiasupportbucks.org.uk/event/lightbulb-cafe/2026-01-07/
LOCATION:Adams Park Stadium\, Adams Park Stadium\, Hillbottom Road\, High Wycombe\, Buckinghamshire\, HP12 4HJ\, United Kingdom
ORGANIZER;CN="Wycombe Wanderers Foundation":MAILTO:community@wwfc.com
END:VEVENT
BEGIN:VEVENT
DTSTART;TZID=Europe/London:20251203T103000
DTEND;TZID=Europe/London:20251203T120000
DTSTAMP:20260421T151111
CREATED:20250630T101843Z
LAST-MODIFIED:20250630T101843Z
UID:10000646-1764757800-1764763200@dementiasupportbucks.org.uk
SUMMARY:Lightbulb Cafe
DESCRIPTION:Safe space for people with memory changes/dementia and carers – includes reminiscence activities and separate carer support. \nNote: Booking required. \n\n\n	Related
URL:https://dementiasupportbucks.org.uk/event/lightbulb-cafe/2025-12-03/
LOCATION:Adams Park Stadium\, Adams Park Stadium\, Hillbottom Road\, High Wycombe\, Buckinghamshire\, HP12 4HJ\, United Kingdom
ORGANIZER;CN="Wycombe Wanderers Foundation":MAILTO:community@wwfc.com
END:VEVENT
BEGIN:VEVENT
DTSTART;TZID=Europe/London:20251105T103000
DTEND;TZID=Europe/London:20251105T120000
DTSTAMP:20260421T151111
CREATED:20250630T101843Z
LAST-MODIFIED:20250630T101843Z
UID:10000645-1762338600-1762344000@dementiasupportbucks.org.uk
SUMMARY:Lightbulb Cafe
DESCRIPTION:Safe space for people with memory changes/dementia and carers – includes reminiscence activities and separate carer support. \nNote: Booking required. \n\n\n	Related
URL:https://dementiasupportbucks.org.uk/event/lightbulb-cafe/2025-11-05/
LOCATION:Adams Park Stadium\, Adams Park Stadium\, Hillbottom Road\, High Wycombe\, Buckinghamshire\, HP12 4HJ\, United Kingdom
ORGANIZER;CN="Wycombe Wanderers Foundation":MAILTO:community@wwfc.com
END:VEVENT
BEGIN:VEVENT
DTSTART;TZID=Europe/London:20251001T103000
DTEND;TZID=Europe/London:20251001T120000
DTSTAMP:20260421T151111
CREATED:20250630T101843Z
LAST-MODIFIED:20250630T101843Z
UID:10000644-1759314600-1759320000@dementiasupportbucks.org.uk
SUMMARY:Lightbulb Cafe
DESCRIPTION:Safe space for people with memory changes/dementia and carers – includes reminiscence activities and separate carer support. \nNote: Booking required. \n\n\n	Related
URL:https://dementiasupportbucks.org.uk/event/lightbulb-cafe/2025-10-01/
LOCATION:Adams Park Stadium\, Adams Park Stadium\, Hillbottom Road\, High Wycombe\, Buckinghamshire\, HP12 4HJ\, United Kingdom
ORGANIZER;CN="Wycombe Wanderers Foundation":MAILTO:community@wwfc.com
END:VEVENT
BEGIN:VEVENT
DTSTART;TZID=Europe/London:20250903T103000
DTEND;TZID=Europe/London:20250903T120000
DTSTAMP:20260421T151111
CREATED:20250630T101843Z
LAST-MODIFIED:20250630T101843Z
UID:10000643-1756895400-1756900800@dementiasupportbucks.org.uk
SUMMARY:Lightbulb Cafe
DESCRIPTION:Safe space for people with memory changes/dementia and carers – includes reminiscence activities and separate carer support. \nNote: Booking required. \n\n\n	Related
URL:https://dementiasupportbucks.org.uk/event/lightbulb-cafe/2025-09-03/
LOCATION:Adams Park Stadium\, Adams Park Stadium\, Hillbottom Road\, High Wycombe\, Buckinghamshire\, HP12 4HJ\, United Kingdom
ORGANIZER;CN="Wycombe Wanderers Foundation":MAILTO:community@wwfc.com
END:VEVENT
BEGIN:VEVENT
DTSTART;TZID=Europe/London:20250806T103000
DTEND;TZID=Europe/London:20250806T120000
DTSTAMP:20260421T151111
CREATED:20250630T101843Z
LAST-MODIFIED:20250630T101843Z
UID:10000642-1754476200-1754481600@dementiasupportbucks.org.uk
SUMMARY:Lightbulb Cafe
DESCRIPTION:Safe space for people with memory changes/dementia and carers – includes reminiscence activities and separate carer support. \nNote: Booking required. \n\n\n	Related
URL:https://dementiasupportbucks.org.uk/event/lightbulb-cafe/2025-08-06/
LOCATION:Adams Park Stadium\, Adams Park Stadium\, Hillbottom Road\, High Wycombe\, Buckinghamshire\, HP12 4HJ\, United Kingdom
ORGANIZER;CN="Wycombe Wanderers Foundation":MAILTO:community@wwfc.com
END:VEVENT
BEGIN:VEVENT
DTSTART;TZID=Europe/London:20250702T103000
DTEND;TZID=Europe/London:20250702T120000
DTSTAMP:20260421T151111
CREATED:20250630T101843Z
LAST-MODIFIED:20250630T101843Z
UID:10000641-1751452200-1751457600@dementiasupportbucks.org.uk
SUMMARY:Lightbulb Cafe
DESCRIPTION:Safe space for people with memory changes/dementia and carers – includes reminiscence activities and separate carer support. \nNote: Booking required. \n\n\n	Related
URL:https://dementiasupportbucks.org.uk/event/lightbulb-cafe/2025-07-02/
LOCATION:Adams Park Stadium\, Adams Park Stadium\, Hillbottom Road\, High Wycombe\, Buckinghamshire\, HP12 4HJ\, United Kingdom
ORGANIZER;CN="Wycombe Wanderers Foundation":MAILTO:community@wwfc.com
END:VEVENT
END:VCALENDAR